BEGIN:VCALENDAR
VERSION:2.0
PRODID:https://github.com/derhansen/sf_event_mgt
METHOD:PUBLISH
BEGIN:VEVENT
UID:349-39@berlinschoolofeconomics.de
CLASS: PUBLIC
SUMMARY:BSoE Applied Micro Seminar: Valentina Melentyeva (Tilburg University)
DESCRIPTION:Topic: Child Penalty Estimation and Mothers' Age at First Birth
 \n\nTime & venue: Monday, 14.00 - 15.15 \n\nDIW Berlin\n\nMohrenstraße 5
 8, 10117 \n\nOstrom room\n\nDescription:\n\nThe Berlin School of Economi
 cs Applied Micro Seminar (BAMS) is a weekly research seminar, focused o
 n labor economics, industrial organization, political economy and related
  areas in applied microeconomics. It is jointly organized by DIW Berlin,
  Hertie School, HU Berlin, FU Berlin, TU Berlin, WZB, ESMT Berlin, 
 University of Potsdam, European University Viadrina, BCCP, IZA , RFBe
 rlin, RWI and SFB TRR 190. BAMS is one of the many activities within th
 e Berlin School of Economics.\n\nIf you are interested in receiving news 
 on the BAMS seminar, please subscribe to the newsletter here.\n\nBAMS s
 eminars take place on Mondays from 14:00h - 15:15h. Most seminars will
  take place physically at DIW Berlin (Ostrom room, Mohrenstraße 58, 101
 17 Berlin), but a few will take place online (via Zoom). Information on
  the format (if applicable, incl. a Zoom link) will be distributed via th
 e newsletter and can also be found below in the seminar schedule.\n\nThe 
 BAMS is co-funded by the Berlin Centre for Consumer Policies (BCCP), SF
 B TRR 190 Rationality and Competition and ROCKWOOL Foundation Berlin (R
 FBerlin).\n\nFor questions/suggestions please contact: info@bams-econ.de.
DTSTAMP:20241113T163055Z
DTSTART:20241125T140000Z
DTEND:20241125T151500Z
END:VEVENT
END:VCALENDAR