BEGIN:VCALENDAR
VERSION:2.0
PRODID:https://github.com/derhansen/sf_event_mgt
METHOD:PUBLISH
BEGIN:VEVENT
UID:295-39@berlinschoolofeconomics.de
CLASS: PUBLIC
SUMMARY:Finance Research Seminar: Kai Li (University of British Columbia)
DESCRIPTION:Topic:  The Eco Gender Gap in Boardrooms\n\nSpeaker: Kai Li (
 University of British Columbia)\n\nTime & venue:\n\nThursday, 14:00-15:15\
 n\nHU Berlin, Dorotheenstr. 1\n\nroom 405\n\nDescription: The Finance Rese
 arch Seminar is a joint initiative of Humboldt-University and ESMT, and pr
 ovides a forum to discuss current research in the area of finance. Externa
 l guests are welcome.
DTSTAMP:20240505T120612Z
DTSTART:20240502T140000Z
DTEND:20240502T151500Z
END:VEVENT
END:VCALENDAR